BEGIN:VCALENDAR
VERSION:2.0
PRODID:-//Uhlandschule Wannweil - ECPv6.15.20//NONSGML v1.0//EN
CALSCALE:GREGORIAN
METHOD:PUBLISH
X-ORIGINAL-URL:https://uhlandschule-wannweil.de
X-WR-CALDESC:Veranstaltungen für Uhlandschule Wannweil
REFRESH-INTERVAL;VALUE=DURATION:PT1H
X-Robots-Tag:noindex
X-PUBLISHED-TTL:PT1H
BEGIN:VTIMEZONE
TZID:Europe/Berlin
BEGIN:DAYLIGHT
TZOFFSETFROM:+0100
TZOFFSETTO:+0200
TZNAME:CEST
DTSTART:20240331T010000
END:DAYLIGHT
BEGIN:STANDARD
TZOFFSETFROM:+0200
TZOFFSETTO:+0100
TZNAME:CET
DTSTART:20241027T010000
END:STANDARD
BEGIN:DAYLIGHT
TZOFFSETFROM:+0100
TZOFFSETTO:+0200
TZNAME:CEST
DTSTART:20250330T010000
END:DAYLIGHT
BEGIN:STANDARD
TZOFFSETFROM:+0200
TZOFFSETTO:+0100
TZNAME:CET
DTSTART:20251026T010000
END:STANDARD
BEGIN:DAYLIGHT
TZOFFSETFROM:+0100
TZOFFSETTO:+0200
TZNAME:CEST
DTSTART:20260329T010000
END:DAYLIGHT
BEGIN:STANDARD
TZOFFSETFROM:+0200
TZOFFSETTO:+0100
TZNAME:CET
DTSTART:20261025T010000
END:STANDARD
END:VTIMEZONE
BEGIN:VEVENT
DTSTART;VALUE=DATE:20250624
DTEND;VALUE=DATE:20250625
DTSTAMP:20260425T011534
CREATED:20250520T065026Z
LAST-MODIFIED:20250520T065026Z
UID:2706-1750723200-1750809599@uhlandschule-wannweil.de
SUMMARY:Jugend trainiert für Olympia Leichtathletik
DESCRIPTION:
URL:https://uhlandschule-wannweil.de/event/jugend-trainiert-fuer-olympia-leichtathletik/
END:VEVENT
BEGIN:VEVENT
DTSTART;TZID=Europe/Berlin:20250624T133000
DTEND;TZID=Europe/Berlin:20250624T150000
DTSTAMP:20260425T011534
CREATED:20250520T064827Z
LAST-MODIFIED:20250520T064827Z
UID:2702-1750771800-1750777200@uhlandschule-wannweil.de
SUMMARY:Autorenlesung für Klassen 1 und 2
DESCRIPTION:
URL:https://uhlandschule-wannweil.de/event/autorenlesung-fuer-klassen-1-und-2/
END:VEVENT
END:VCALENDAR