BEGIN:VCALENDAR
VERSION:2.0
PRODID:-//Uhlandschule Wannweil - ECPv6.15.20//NONSGML v1.0//EN
CALSCALE:GREGORIAN
METHOD:PUBLISH
X-ORIGINAL-URL:https://uhlandschule-wannweil.de
X-WR-CALDESC:Veranstaltungen für Uhlandschule Wannweil
REFRESH-INTERVAL;VALUE=DURATION:PT1H
X-Robots-Tag:noindex
X-PUBLISHED-TTL:PT1H
BEGIN:VTIMEZONE
TZID:Europe/Berlin
BEGIN:DAYLIGHT
TZOFFSETFROM:+0100
TZOFFSETTO:+0200
TZNAME:CEST
DTSTART:20250330T010000
END:DAYLIGHT
BEGIN:STANDARD
TZOFFSETFROM:+0200
TZOFFSETTO:+0100
TZNAME:CET
DTSTART:20251026T010000
END:STANDARD
BEGIN:DAYLIGHT
TZOFFSETFROM:+0100
TZOFFSETTO:+0200
TZNAME:CEST
DTSTART:20260329T010000
END:DAYLIGHT
BEGIN:STANDARD
TZOFFSETFROM:+0200
TZOFFSETTO:+0100
TZNAME:CET
DTSTART:20261025T010000
END:STANDARD
BEGIN:DAYLIGHT
TZOFFSETFROM:+0100
TZOFFSETTO:+0200
TZNAME:CEST
DTSTART:20270328T010000
END:DAYLIGHT
BEGIN:STANDARD
TZOFFSETFROM:+0200
TZOFFSETTO:+0100
TZNAME:CET
DTSTART:20271031T010000
END:STANDARD
END:VTIMEZONE
BEGIN:VEVENT
DTSTART;TZID=Europe/Berlin:20260121T190000
DTEND;TZID=Europe/Berlin:20260121T210000
DTSTAMP:20260424T160656
CREATED:20260104T135012Z
LAST-MODIFIED:20260104T135012Z
UID:3256-1769022000-1769029200@uhlandschule-wannweil.de
SUMMARY:Infoelternabend Schulstart 2026
DESCRIPTION:Wir laden Sie herzlich zum Informationselternabend „Gut informiert für den Schulstart Ihres Kindes“ am Mittwoch\, 21. Januar 2026 um 19.00 Uhr im Mozartsaal der Uhlandschule Wannweil ein. \nIm Anschluss können Sie im „offenen Klassenzimmer“ einen ersten Eindruck von der zukünftigen Lernumgebung Ihres Kindes und vom Schulalltag gewinnen.
URL:https://uhlandschule-wannweil.de/event/infoelternabend-schulstart-2026/
END:VEVENT
END:VCALENDAR