BEGIN:VCALENDAR
VERSION:2.0
PRODID:-//Uhlandschule Wannweil - ECPv6.15.20//NONSGML v1.0//EN
CALSCALE:GREGORIAN
METHOD:PUBLISH
X-ORIGINAL-URL:https://uhlandschule-wannweil.de
X-WR-CALDESC:Veranstaltungen für Uhlandschule Wannweil
REFRESH-INTERVAL;VALUE=DURATION:PT1H
X-Robots-Tag:noindex
X-PUBLISHED-TTL:PT1H
BEGIN:VTIMEZONE
TZID:Europe/Berlin
BEGIN:DAYLIGHT
TZOFFSETFROM:+0100
TZOFFSETTO:+0200
TZNAME:CEST
DTSTART:20250330T010000
END:DAYLIGHT
BEGIN:STANDARD
TZOFFSETFROM:+0200
TZOFFSETTO:+0100
TZNAME:CET
DTSTART:20251026T010000
END:STANDARD
BEGIN:DAYLIGHT
TZOFFSETFROM:+0100
TZOFFSETTO:+0200
TZNAME:CEST
DTSTART:20260329T010000
END:DAYLIGHT
BEGIN:STANDARD
TZOFFSETFROM:+0200
TZOFFSETTO:+0100
TZNAME:CET
DTSTART:20261025T010000
END:STANDARD
BEGIN:DAYLIGHT
TZOFFSETFROM:+0100
TZOFFSETTO:+0200
TZNAME:CEST
DTSTART:20270328T010000
END:DAYLIGHT
BEGIN:STANDARD
TZOFFSETFROM:+0200
TZOFFSETTO:+0100
TZNAME:CET
DTSTART:20271031T010000
END:STANDARD
END:VTIMEZONE
BEGIN:VEVENT
DTSTART;VALUE=DATE:20260206
DTEND;VALUE=DATE:20260207
DTSTAMP:20260424T143630
CREATED:20260104T135114Z
LAST-MODIFIED:20260104T135114Z
UID:3258-1770336000-1770422399@uhlandschule-wannweil.de
SUMMARY:Ausgabe Grundschulempfehlung und Halbjahresinformation
DESCRIPTION:
URL:https://uhlandschule-wannweil.de/event/ausgabe-grundschulempfehlung-und-halbjahresinformation/
END:VEVENT
BEGIN:VEVENT
DTSTART;VALUE=DATE:20260213
DTEND;VALUE=DATE:20260214
DTSTAMP:20260424T143630
CREATED:20260104T135149Z
LAST-MODIFIED:20260104T135149Z
UID:3260-1770940800-1771027199@uhlandschule-wannweil.de
SUMMARY:Faschingsfest 2026
DESCRIPTION:
URL:https://uhlandschule-wannweil.de/event/faschingsfest-2026/
END:VEVENT
BEGIN:VEVENT
DTSTART;VALUE=DATE:20260216
DTEND;VALUE=DATE:20260221
DTSTAMP:20260424T143630
CREATED:20260104T135254Z
LAST-MODIFIED:20260104T135254Z
UID:3262-1771200000-1771631999@uhlandschule-wannweil.de
SUMMARY:Faschingsferien
DESCRIPTION:
URL:https://uhlandschule-wannweil.de/event/faschingsferien/
END:VEVENT
BEGIN:VEVENT
DTSTART;TZID=Europe/Berlin:20260227T130000
DTEND;TZID=Europe/Berlin:20260227T170000
DTSTAMP:20260424T143630
CREATED:20260104T135358Z
LAST-MODIFIED:20260104T135358Z
UID:3264-1772197200-1772211600@uhlandschule-wannweil.de
SUMMARY:Schulanmeldung Schuljahr 2026/2027
DESCRIPTION:Den genauen Termin erhalten Sie von uns per Post.
URL:https://uhlandschule-wannweil.de/event/schulanmeldung-schuljahr-2026-2027/
END:VEVENT
END:VCALENDAR