BEGIN:VCALENDAR
VERSION:2.0
PRODID:-//Uhlandschule Wannweil - ECPv6.15.20//NONSGML v1.0//EN
CALSCALE:GREGORIAN
METHOD:PUBLISH
X-WR-CALNAME:Uhlandschule Wannweil
X-ORIGINAL-URL:https://uhlandschule-wannweil.de
X-WR-CALDESC:Veranstaltungen für Uhlandschule Wannweil
REFRESH-INTERVAL;VALUE=DURATION:PT1H
X-Robots-Tag:noindex
X-PUBLISHED-TTL:PT1H
BEGIN:VTIMEZONE
TZID:Europe/Berlin
BEGIN:DAYLIGHT
TZOFFSETFROM:+0100
TZOFFSETTO:+0200
TZNAME:CEST
DTSTART:20250330T010000
END:DAYLIGHT
BEGIN:STANDARD
TZOFFSETFROM:+0200
TZOFFSETTO:+0100
TZNAME:CET
DTSTART:20251026T010000
END:STANDARD
BEGIN:DAYLIGHT
TZOFFSETFROM:+0100
TZOFFSETTO:+0200
TZNAME:CEST
DTSTART:20260329T010000
END:DAYLIGHT
BEGIN:STANDARD
TZOFFSETFROM:+0200
TZOFFSETTO:+0100
TZNAME:CET
DTSTART:20261025T010000
END:STANDARD
BEGIN:DAYLIGHT
TZOFFSETFROM:+0100
TZOFFSETTO:+0200
TZNAME:CEST
DTSTART:20270328T010000
END:DAYLIGHT
BEGIN:STANDARD
TZOFFSETFROM:+0200
TZOFFSETTO:+0100
TZNAME:CET
DTSTART:20271031T010000
END:STANDARD
END:VTIMEZONE
BEGIN:VEVENT
DTSTART;TZID=Europe/Berlin:20260715T080000
DTEND;TZID=Europe/Berlin:20260717T122500
DTSTAMP:20260424T161400
CREATED:20260420T124319Z
LAST-MODIFIED:20260420T124319Z
UID:3384-1784102400-1784291100@uhlandschule-wannweil.de
SUMMARY:Projekttage "Alles in Bewegung"
DESCRIPTION:Die Projekttage finden von Mittwoch\, 15.7. – 17.7. von 8.00 – 12.20 Uhr statt. Wir enden mit einer gemeinsamen Aufführung und der Präsentation unserer Ergebnisse im Schulhaus.
URL:https://uhlandschule-wannweil.de/event/projekttage-alles-in-bewegung/
END:VEVENT
BEGIN:VEVENT
DTSTART;TZID=Europe/Berlin:20260728T080000
DTEND;TZID=Europe/Berlin:20260728T122500
DTSTAMP:20260424T161400
CREATED:20260420T124443Z
LAST-MODIFIED:20260420T124443Z
UID:3386-1785225600-1785241500@uhlandschule-wannweil.de
SUMMARY:Radaktionstag 2026
DESCRIPTION:An vielen Stationen rund um das Schulgelände üben die Schülerinnen und Schüler den sicheren Umgang mit ihrem Fahrrad.
URL:https://uhlandschule-wannweil.de/event/radaktionstag-2026/
END:VEVENT
END:VCALENDAR